BEGIN:VCALENDAR
VERSION:2.0
PRODID:-//Lott - ECPv6.11.2.1//NONSGML v1.0//EN
CALSCALE:GREGORIAN
METHOD:PUBLISH
X-ORIGINAL-URL:https://lott.es
X-WR-CALDESC:Eventos para Lott
REFRESH-INTERVAL;VALUE=DURATION:PT1H
X-Robots-Tag:noindex
X-PUBLISHED-TTL:PT1H
BEGIN:VTIMEZONE
TZID:Europe/Madrid
BEGIN:DAYLIGHT
TZOFFSETFROM:+0100
TZOFFSETTO:+0200
TZNAME:CEST
DTSTART:20260329T010000
END:DAYLIGHT
BEGIN:STANDARD
TZOFFSETFROM:+0200
TZOFFSETTO:+0100
TZNAME:CET
DTSTART:20261025T010000
END:STANDARD
END:VTIMEZONE
BEGIN:VEVENT
DTSTART;TZID=Europe/Madrid:20260418T210000
DTEND;TZID=Europe/Madrid:20260418T230000
DTSTAMP:20260424T111211
CREATED:20260414T083946Z
LAST-MODIFIED:20260414T083947Z
UID:7090-1776546000-1776553200@lott.es
SUMMARY:LOTT en concierto en "La Facultad" el próximo 18 de abril
DESCRIPTION:El letrista\, compositor e intérprete madrileño dará un repaso a su discografía e interpretará versiones de clásicos del pop y del rock.\nEntrada gratuita
URL:https://lott.es/evento/lott-en-concierto-en-la-facultad-el-proximo-18-de-abril/
LOCATION:La Facultad\, Avenida de la Constitución 112\, Torrejón de Ardoz\, Madrid\, 28850\, Spain
ATTACH;FMTTYPE=image/jpeg:https://lott.es/wp-content/uploads/2026/04/facultad-scaled.jpg
END:VEVENT
END:VCALENDAR